BEGIN:VCALENDAR
VERSION:2.0
PRODID:-//NDA EKAÑ - ECPv6.15.12.2//NONSGML v1.0//EN
CALSCALE:GREGORIAN
METHOD:PUBLISH
X-WR-CALNAME:NDA EKAÑ
X-ORIGINAL-URL:https://ndaekangyaeurocam.org
X-WR-CALDESC:Évènements pour NDA EKAÑ
REFRESH-INTERVAL;VALUE=DURATION:PT1H
X-Robots-Tag:noindex
X-PUBLISHED-TTL:PT1H
BEGIN:VTIMEZONE
TZID:UTC
BEGIN:STANDARD
TZOFFSETFROM:+0000
TZOFFSETTO:+0000
TZNAME:UTC
DTSTART:20250101T000000
END:STANDARD
END:VTIMEZONE
BEGIN:VEVENT
DTSTART;TZID=UTC:20260416T080000
DTEND;TZID=UTC:20260416T170000
DTSTAMP:20260415T135843
CREATED:20260120T123522Z
LAST-MODIFIED:20260120T123615Z
UID:7759-1776326400-1776358800@ndaekangyaeurocam.org
SUMMARY:Rassemblement
DESCRIPTION:
URL:https://ndaekangyaeurocam.org/event/rassemblement/
LOCATION:PARIS\, France
ATTACH;FMTTYPE=image/jpeg:https://ndaekangyaeurocam.org/wp-content/uploads/2026/01/ekan.jpeg
END:VEVENT
END:VCALENDAR